BEGIN:VCALENDAR
VERSION:2.0
PRODID:icalendar-ruby
CALSCALE:GREGORIAN
METHOD:PUBLISH
BEGIN:VEVENT
DTSTAMP:20260424T161005Z
UID:44-495063@anthonybaptistfl.org
DTSTART:20260426T220000Z
DTEND:20260426T230000Z
CLASS:PUBLIC
CREATED:20260408T120412
DESCRIPTION:And evening time of worship led by the student ministry group o
 f Anthony Baptist Church. 
LAST-MODIFIED:20260408T120412
LOCATION:Outdoor Pavilion 
SUMMARY:Family Worship Night
URL;VALUE=URI:https://anthonybaptistfl.org/events/family-worship-night/2026
 -04-26
END:VEVENT
END:VCALENDAR
